BEGIN:VCALENDAR
VERSION:2.0
PRODID:-//https://www.lecze-salezjanie.pl///DJ-Events//EN
BEGIN:VEVENT
SUMMARY:+ Anna Konwent - w 9 rocznicę śmierci
UID:141@https://www.lecze-salezjanie.pl/
DTSTART:20220320T120000
DTEND:20220320T120000
DTSTAMP:20260422T235107
CATEGORIES:Msza święta
LOCATION:Łęcze 82-340 Łęcze 48
GEO:54.2700545652713;19.468870040475466
DESCRIPTION:
URL:https://www.lecze-salezjanie.pl//component/djevents/details/2022-03-20/141-anna-konwent-w-9-rocznice-smierci
END:VEVENT
END:VCALENDAR
