BEGIN:VCALENDAR
VERSION:2.0
PRODID:-//https://www.lecze-salezjanie.pl///DJ-Events//EN
BEGIN:VEVENT
SUMMARY:+ Stanisława i Antoni Pietera, Sławomir Grzemiński
UID:412@https://www.lecze-salezjanie.pl/
DTSTART:20220320T103000
DTEND:20220320T103000
DTSTAMP:20260422T235317
CATEGORIES:Msza święta
LOCATION:Suchacz 82-340 Kielecka 14
GEO:54.2856461944789;19.44132685661316
DESCRIPTION:
URL:https://www.lecze-salezjanie.pl//component/djevents/details/2022-03-20/412-stanislawa-i-antoni-pietera-slawomir-grzeminski
END:VEVENT
END:VCALENDAR
