BEGIN:VCALENDAR
VERSION:2.0
PRODID:-//https://www.lecze-salezjanie.pl///DJ-Events//EN
BEGIN:VEVENT
SUMMARY:Gorzkie Żale
UID:493@https://www.lecze-salezjanie.pl/
DTSTART:20220320T094500
DTEND:20220320T094500
DTSTAMP:20260422T234901
CATEGORIES:Nabożeństwo
LOCATION:Łęcze 82-340 Łęcze 48
GEO:54.2700545652713;19.468870040475466
DESCRIPTION:
URL:https://www.lecze-salezjanie.pl//component/djevents/details/2022-03-20/493-gorzkie-zale
END:VEVENT
END:VCALENDAR
