BEGIN:VCALENDAR
VERSION:2.0
PRODID:-//https://www.lecze-salezjanie.pl///DJ-Events//EN
BEGIN:VEVENT
SUMMARY:+ Aleksandra Budzyńska - Msza święta Gregoriańska (24)
UID:146@https://www.lecze-salezjanie.pl/
DTSTART:20220324T180000
DTEND:20220324T180000
DTSTAMP:20260422T235046
CATEGORIES:Msza święta
LOCATION:Łęcze 82-340 Łęcze 48
GEO:54.2700545652713;19.468870040475466
DESCRIPTION:
URL:https://www.lecze-salezjanie.pl//component/djevents/details/2022-03-24/146-aleksandra-budzynska-msza-swieta-gregorianska-24
END:VEVENT
END:VCALENDAR
