BEGIN:VCALENDAR
VERSION:2.0
PRODID:-//https://www.lecze-salezjanie.pl///DJ-Events//EN
BEGIN:VEVENT
SUMMARY:Droga Krzyżowa
UID:491@https://www.lecze-salezjanie.pl/
DTSTART:20220325T163000
DTEND:20220325T163000
DTSTAMP:20260422T234901
CATEGORIES:Nabożeństwo
LOCATION:Suchacz 82-340 Kielecka 14
GEO:54.2856461944789;19.44132685661316
DESCRIPTION:
URL:https://www.lecze-salezjanie.pl//component/djevents/details/2022-03-25/491-droga-krzyzowa
END:VEVENT
END:VCALENDAR
