BEGIN:VCALENDAR
VERSION:2.0
PRODID:-//https://www.lecze-salezjanie.pl///DJ-Events//EN
BEGIN:VEVENT
SUMMARY:O zdrowie, Boże Błogosławieństwo, opiekę Matki Bożej dla Gabrieli, Oliwii i Laury
UID:149@https://www.lecze-salezjanie.pl/
DTSTART:20220327T090000
DTEND:20220327T090000
DTSTAMP:20260422T222300
CATEGORIES:Msza święta
LOCATION:Łęcze 82-340 Łęcze 48
GEO:54.2700545652713;19.468870040475466
DESCRIPTION:
URL:https://www.lecze-salezjanie.pl//component/djevents/details/2022-03-27/149-o-zdrowie-boze-blogoslawienstwo-opieke-matki-bozej-dla-gabrieli-oliwii-i-laury
END:VEVENT
END:VCALENDAR
