BEGIN:VCALENDAR
VERSION:2.0
PRODID:-//https://www.lecze-salezjanie.pl///DJ-Events//EN
BEGIN:VEVENT
SUMMARY:+ Władysław Kaczorek - w 25 rocznicę śmierci
UID:150@https://www.lecze-salezjanie.pl/
DTSTART:20220327T120000
DTEND:20220327T120000
DTSTAMP:20260422T222019
CATEGORIES:Msza święta
LOCATION:Łęcze 82-340 Łęcze 48
GEO:54.2700545652713;19.468870040475466
DESCRIPTION:
URL:https://www.lecze-salezjanie.pl//component/djevents/details/2022-03-27/150-wladyslaw-kaczorek-w-25-rocznice-smierci
END:VEVENT
END:VCALENDAR
