BEGIN:VCALENDAR
VERSION:2.0
PRODID:-//https://www.lecze-salezjanie.pl///DJ-Events//EN
BEGIN:VEVENT
SUMMARY:+ Jan Federowicz, Józefa i Bronisław Gorzkowscy
UID:501@https://www.lecze-salezjanie.pl/
DTSTART:20220327T120000
DTEND:20220327T120000
DTSTAMP:20260422T221927
CATEGORIES:Msza święta
LOCATION:Kamionek Wielki 82-340 Kamionek Wielki 5
GEO:54.262029131955885;19.404954271163948
DESCRIPTION:
URL:https://www.lecze-salezjanie.pl//component/djevents/details/2022-03-27/501-jan-federowicz-jozefa-i-bronislaw-gorzkowscy
END:VEVENT
END:VCALENDAR
