BEGIN:VCALENDAR
VERSION:2.0
PRODID:-//https://www.lecze-salezjanie.pl///DJ-Events//EN
BEGIN:VEVENT
SUMMARY:O dary Bożej Miłości, ulgę w cierpieniu i opiekę Matki Bożej dla Ireny Andronik w 92 urodziny
UID:152@https://www.lecze-salezjanie.pl/
DTSTART:20220328T180000
DTEND:20220328T180000
DTSTAMP:20260422T222152
CATEGORIES:Msza święta
LOCATION:Łęcze 82-340 Łęcze 48
GEO:54.2700545652713;19.468870040475466
DESCRIPTION:
URL:https://www.lecze-salezjanie.pl//component/djevents/details/2022-03-28/152-o-dary-bozej-milosci-ulge-w-cierpieniu-i-opieke-matki-bozej-dla-ireny-andronik-w-92-urodziny
END:VEVENT
END:VCALENDAR
