BEGIN:VCALENDAR
VERSION:2.0
PRODID:-//https://www.lecze-salezjanie.pl///DJ-Events//EN
BEGIN:VEVENT
SUMMARY:+ Władysław Teul
UID:419@https://www.lecze-salezjanie.pl/
DTSTART:20220329T170000
DTEND:20220329T170000
DTSTAMP:20260422T221559
CATEGORIES:Msza święta
LOCATION:Suchacz 82-340 Kielecka 14
GEO:54.2856461944789;19.44132685661316
DESCRIPTION:
URL:https://www.lecze-salezjanie.pl//component/djevents/details/2022-03-29/419-wladyslaw-teul
END:VEVENT
END:VCALENDAR
