BEGIN:VCALENDAR
VERSION:2.0
PRODID:-//https://www.lecze-salezjanie.pl///DJ-Events//EN
BEGIN:VEVENT
SUMMARY:+ Jadwiga Patalan
UID:156@https://www.lecze-salezjanie.pl/
DTSTART:20220331T180000
DTEND:20220331T180000
DTSTAMP:20260424T103751
CATEGORIES:Msza święta
LOCATION:Łęcze 82-340 Łęcze 48
GEO:54.2700545652713;19.468870040475466
DESCRIPTION:
URL:https://www.lecze-salezjanie.pl//component/djevents/details/2022-03-31/156-jadwiga-patalan
END:VEVENT
END:VCALENDAR
