BEGIN:VCALENDAR
VERSION:2.0
PRODID:-//https://www.lecze-salezjanie.pl///DJ-Events//EN
BEGIN:VEVENT
SUMMARY:O szczęśliwe rozwiązanie, zdrowie i opiekę Matki Bożej dla Katarzyny i jej dziecka
UID:418@https://www.lecze-salezjanie.pl/
DTSTART:20220331T160000
DTEND:20220331T160000
DTSTAMP:20260422T222212
CATEGORIES:Msza święta
LOCATION:Kamionek Wielki 82-340 Kamionek Wielki 5
GEO:54.262029131955885;19.404954271163948
DESCRIPTION:
URL:https://www.lecze-salezjanie.pl//component/djevents/details/2022-03-31/418-o-szczesliwe-rozwiazanie-zdrowie-i-opieke-matki-bozej-dla-katarzyny-i-jej-dziecka
END:VEVENT
END:VCALENDAR
