BEGIN:VCALENDAR
VERSION:2.0
PRODID:-//https://www.lecze-salezjanie.pl///DJ-Events//EN
BEGIN:VEVENT
SUMMARY:Za zmarłych polecanych w Wypominkach
UID:158@https://www.lecze-salezjanie.pl/
DTSTART:20220401T180000
DTEND:20220401T180000
DTSTAMP:20260422T221002
CATEGORIES:Msza święta
LOCATION:Łęcze 82-340 Łęcze 48
GEO:54.2700545652713;19.468870040475466
DESCRIPTION:
URL:https://www.lecze-salezjanie.pl//component/djevents/details/2022-04-01/158-za-parafian-2
END:VEVENT
END:VCALENDAR
