BEGIN:VCALENDAR
VERSION:2.0
PRODID:-//https://www.lecze-salezjanie.pl///DJ-Events//EN
BEGIN:VEVENT
SUMMARY:O Boże Błogosławieństwo, zdrowie i opiekę Matki Bożej dla Ryszarda z okazji imienin
UID:161@https://www.lecze-salezjanie.pl/
DTSTART:20220403T090000
DTEND:20220403T090000
DTSTAMP:20260422T204059
CATEGORIES:Msza święta
LOCATION:Łęcze 82-340 Łęcze 48
GEO:54.2700545652713;19.468870040475466
DESCRIPTION:
URL:https://www.lecze-salezjanie.pl//component/djevents/details/2022-04-03/161-o-boze-blogoslawienstwo-zdrowie-i-opieke-matki-bozej-dla-ryszarda-z-okazji-imienin
END:VEVENT
END:VCALENDAR
