BEGIN:VCALENDAR
VERSION:2.0
PRODID:-//https://www.lecze-salezjanie.pl///DJ-Events//EN
BEGIN:VEVENT
SUMMARY:+ Hanna Kostiów
UID:162@https://www.lecze-salezjanie.pl/
DTSTART:20220403T120000
DTEND:20220403T120000
DTSTAMP:20260422T203518
CATEGORIES:Msza święta
LOCATION:Łęcze 82-340 Łęcze 48
GEO:54.2700545652713;19.468870040475466
DESCRIPTION:
URL:https://www.lecze-salezjanie.pl//component/djevents/details/2022-04-03/162-hanna-kostiow
END:VEVENT
END:VCALENDAR
