BEGIN:VCALENDAR
VERSION:2.0
PRODID:-//https://www.lecze-salezjanie.pl///DJ-Events//EN
BEGIN:VEVENT
SUMMARY:+ Alicja Przybylska - w 1 miesiąc po śmierci
UID:424@https://www.lecze-salezjanie.pl/
DTSTART:20220403T090000
DTEND:20220403T090000
DTSTAMP:20260422T204147
CATEGORIES:Msza święta
LOCATION:Suchacz 82-340 Kielecka 14
GEO:54.2856461944789;19.44132685661316
DESCRIPTION:
URL:https://www.lecze-salezjanie.pl//component/djevents/details/2022-04-03/424-alicja-przybylska-w-1-miesiac-po-smierci
END:VEVENT
END:VCALENDAR
