BEGIN:VCALENDAR
VERSION:2.0
PRODID:-//https://www.lecze-salezjanie.pl///DJ-Events//EN
BEGIN:VEVENT
SUMMARY:+ Jadwiga Patalan
UID:163@https://www.lecze-salezjanie.pl/
DTSTART:20220404T180000
DTEND:20220404T180000
DTSTAMP:20260422T203608
CATEGORIES:Msza święta
LOCATION:Łęcze 82-340 Łęcze 48
GEO:54.2700545652713;19.468870040475466
DESCRIPTION:
URL:https://www.lecze-salezjanie.pl//component/djevents/details/2022-04-04/163-jadwiga-patalan-1
END:VEVENT
END:VCALENDAR
