BEGIN:VCALENDAR
VERSION:2.0
PRODID:-//https://www.lecze-salezjanie.pl///DJ-Events//EN
BEGIN:VEVENT
SUMMARY:O szczęśliwe rozwiązanie dla Katarzyny, zdrowie dla jej dzieci i męża oraz opiekę Matki Bożej dla całej rodziny
UID:165@https://www.lecze-salezjanie.pl/
DTSTART:20220406T180000
DTEND:20220406T180000
DTSTAMP:20260422T204100
CATEGORIES:Msza święta
LOCATION:Łęcze 82-340 Łęcze 48
GEO:54.2700545652713;19.468870040475466
DESCRIPTION:
URL:https://www.lecze-salezjanie.pl//component/djevents/details/2022-04-06/165-o-szczesliwe-rozwiazanie-dla-katarzyny-zdrowie-dla-jej-dzieci-i-meza-oraz-opieke-matki-bozej-dla-calej-rodziny
END:VEVENT
END:VCALENDAR
