BEGIN:VCALENDAR
VERSION:2.0
PRODID:-//https://www.lecze-salezjanie.pl///DJ-Events//EN
BEGIN:VEVENT
SUMMARY:+ Janina, Henryka, Czesław, Sylwester Gorzkowscy
UID:420@https://www.lecze-salezjanie.pl/
DTSTART:20220410T120000
DTEND:20220410T120000
DTSTAMP:20260422T191705
CATEGORIES:Msza święta
LOCATION:Kamionek Wielki 82-340 Kamionek Wielki 5
GEO:54.262029131955885;19.404954271163948
DESCRIPTION:
URL:https://www.lecze-salezjanie.pl//component/djevents/details/2022-04-10/420-janina-henryka-czeslaw-sylwester-gorzkowscy
END:VEVENT
END:VCALENDAR
