BEGIN:VCALENDAR
VERSION:2.0
PRODID:-//https://www.lecze-salezjanie.pl///DJ-Events//EN
BEGIN:VEVENT
SUMMARY:+ Wanda Fabisiak - w 2 rocznicę śmierci i wszystkich zmarłych z rodziny
UID:431@https://www.lecze-salezjanie.pl/
DTSTART:20220410T103000
DTEND:20220410T103000
DTSTAMP:20260422T191239
CATEGORIES:Msza święta
LOCATION:Suchacz 82-340 Kielecka 14
GEO:54.2856461944789;19.44132685661316
DESCRIPTION:
URL:https://www.lecze-salezjanie.pl//component/djevents/details/2022-04-10/431-wanda-fabisiak-w-2-rocznice-smierci-i-wszystkich-zmarlych-z-rodziny
END:VEVENT
END:VCALENDAR
