BEGIN:VCALENDAR
VERSION:2.0
PRODID:-//https://www.lecze-salezjanie.pl///DJ-Events//EN
BEGIN:VEVENT
SUMMARY:W intencji ofiarodawcy
UID:505@https://www.lecze-salezjanie.pl/
DTSTART:20220412T180000
DTEND:20220412T180000
DTSTAMP:20260422T190509
CATEGORIES:Msza święta
LOCATION:Łęcze 82-340 Łęcze 48
GEO:54.2700545652713;19.468870040475466
DESCRIPTION:
URL:https://www.lecze-salezjanie.pl//component/djevents/details/2022-04-12/505-w-intencji-ofiarodawcy-2
END:VEVENT
END:VCALENDAR
