BEGIN:VCALENDAR
VERSION:2.0
PRODID:-//https://www.lecze-salezjanie.pl///DJ-Events//EN
BEGIN:VEVENT
SUMMARY:O zdrowie, Boże Błogosławieństwo, opiekę Matki Bożej dla Janiny w dniu urodzin
UID:174@https://www.lecze-salezjanie.pl/
DTSTART:20220413T180000
DTEND:20220413T180000
DTSTAMP:20260422T191023
CATEGORIES:Msza święta
LOCATION:Łęcze 82-340 Łęcze 48
GEO:54.2700545652713;19.468870040475466
DESCRIPTION:
URL:https://www.lecze-salezjanie.pl//component/djevents/details/2022-04-13/174-o-zdrowie-boze-blogoslawienstwo-opieke-matki-bozej-dla-janiny-w-dniu-urodzin
END:VEVENT
END:VCALENDAR
