BEGIN:VCALENDAR
VERSION:2.0
PRODID:-//https://www.lecze-salezjanie.pl///DJ-Events//EN
BEGIN:VEVENT
SUMMARY:Liturgia Wielkiego Czwartku - intencja własna kapłana
UID:175@https://www.lecze-salezjanie.pl/
DTSTART:20220414T180000
DTEND:20220414T180000
DTSTAMP:20260422T191740
CATEGORIES:Msza święta
LOCATION:Łęcze 82-340 Łęcze 48
GEO:54.2700545652713;19.468870040475466
DESCRIPTION:
URL:https://www.lecze-salezjanie.pl//component/djevents/details/2022-04-14/175-liturgia-wielkiego-czwartku-intencja-wlasna-kaplana-1
END:VEVENT
END:VCALENDAR
