BEGIN:VCALENDAR
VERSION:2.0
PRODID:-//https://www.lecze-salezjanie.pl///DJ-Events//EN
BEGIN:VEVENT
SUMMARY:+ Bronisława Wiącek
UID:509@https://www.lecze-salezjanie.pl/
DTSTART:20220414T123000
DTEND:20220414T123000
DTSTAMP:20260422T190219
CATEGORIES:Pogrzeb
LOCATION:Suchacz 82-340 Kielecka 14
GEO:54.2856461944789;19.44132685661316
DESCRIPTION:
URL:https://www.lecze-salezjanie.pl//component/djevents/details/2022-04-14/509-bronislawa-wiacek
END:VEVENT
END:VCALENDAR
