BEGIN:VCALENDAR
VERSION:2.0
PRODID:-//https://www.lecze-salezjanie.pl///DJ-Events//EN
BEGIN:VEVENT
SUMMARY:Liturgia Wielkiego Piątku
UID:176@https://www.lecze-salezjanie.pl/
DTSTART:20220415T180000
DTEND:20220415T180000
DTSTAMP:20260422T191345
CATEGORIES:Nabożeństwo
LOCATION:Łęcze 82-340 Łęcze 48
GEO:54.2700545652713;19.468870040475466
DESCRIPTION:
URL:https://www.lecze-salezjanie.pl//component/djevents/details/2022-04-15/176-liturgia-wielkiego-piatku
END:VEVENT
END:VCALENDAR
