BEGIN:VCALENDAR
VERSION:2.0
PRODID:-//https://www.lecze-salezjanie.pl///DJ-Events//EN
BEGIN:VEVENT
SUMMARY:Godzina Miłosierdzia wynagradzająca za grzechy przeciwko życiu
UID:506@https://www.lecze-salezjanie.pl/
DTSTART:20220415T150000
DTEND:20220415T150000
DTSTAMP:20260422T191252
CATEGORIES:Nabożeństwo
LOCATION:Łęcze 82-340 Łęcze 48
GEO:54.2700545652713;19.468870040475466
DESCRIPTION:
URL:https://www.lecze-salezjanie.pl//component/djevents/details/2022-04-15/506-godzina-milosierdzia-wynagradzajaca-za-grzechy-przeciwko-zyciu
END:VEVENT
END:VCALENDAR
