BEGIN:VCALENDAR
VERSION:2.0
PRODID:-//https://www.lecze-salezjanie.pl///DJ-Events//EN
BEGIN:VEVENT
SUMMARY:+ Henryk, Wacław oraz zmarli z rodziny Andrusiewiczów, Androników, Bieleckich, Pankiewiczów, Łazuków, Czyżewskich
UID:437@https://www.lecze-salezjanie.pl/
DTSTART:20220417T103000
DTEND:20220417T103000
DTSTAMP:20260422T175010
CATEGORIES:Msza święta
LOCATION:Suchacz 82-340 Kielecka 14
GEO:54.2856461944789;19.44132685661316
DESCRIPTION:
URL:https://www.lecze-salezjanie.pl//component/djevents/details/2022-04-17/437-henryk-waclaw-oraz-zmarli-z-rodziny-andrusiewiczow-andronikow-bieleckich-pankiewiczow-lazukow-czyzewskich
END:VEVENT
END:VCALENDAR
