BEGIN:VCALENDAR
VERSION:2.0
PRODID:-//https://www.lecze-salezjanie.pl///DJ-Events//EN
BEGIN:VEVENT
SUMMARY:+ Adam Wdowiak - w 11 rocznicę śmierci
UID:180@https://www.lecze-salezjanie.pl/
DTSTART:20220418T090000
DTEND:20220418T090000
DTSTAMP:20260422T174747
CATEGORIES:Msza święta
LOCATION:Łęcze 82-340 Łęcze 48
GEO:54.2700545652713;19.468870040475466
DESCRIPTION:
URL:https://www.lecze-salezjanie.pl//component/djevents/details/2022-04-18/180-adam-wdowiak-w-11-rocznice-smierci
END:VEVENT
END:VCALENDAR
