BEGIN:VCALENDAR
VERSION:2.0
PRODID:-//https://www.lecze-salezjanie.pl///DJ-Events//EN
BEGIN:VEVENT
SUMMARY:Za zmarłych z rodziny Koprowskich
UID:438@https://www.lecze-salezjanie.pl/
DTSTART:20220418T090000
DTEND:20220418T090000
DTSTAMP:20260422T174915
CATEGORIES:Msza święta
LOCATION:Suchacz 82-340 Kielecka 14
GEO:54.2856461944789;19.44132685661316
DESCRIPTION:
URL:https://www.lecze-salezjanie.pl//component/djevents/details/2022-04-18/438-za-zmarlych-z-rodziny-koprowskich
END:VEVENT
END:VCALENDAR
