BEGIN:VCALENDAR
VERSION:2.0
PRODID:-//https://www.lecze-salezjanie.pl///DJ-Events//EN
BEGIN:VEVENT
SUMMARY:Dziękczynna, z prośbą o dary Bożej Miłości i nieustanną opiekę Matki Bożej dla Anny Pankiewicz w dniu urodzin
UID:439@https://www.lecze-salezjanie.pl/
DTSTART:20220418T103000
DTEND:20220418T103000
DTSTAMP:20260422T175010
CATEGORIES:Msza święta
LOCATION:Suchacz 82-340 Kielecka 14
GEO:54.2856461944789;19.44132685661316
DESCRIPTION:
URL:https://www.lecze-salezjanie.pl//component/djevents/details/2022-04-18/439-dziekczynna-z-prosba-o-dary-bozej-milosci-i-nieustanna-opieke-matki-bozej-dla-anny-pankiewicz-w-dniu-urodzin
END:VEVENT
END:VCALENDAR
