BEGIN:VCALENDAR
VERSION:2.0
PRODID:-//https://www.lecze-salezjanie.pl///DJ-Events//EN
BEGIN:VEVENT
SUMMARY:W intencji ofiarodawcy
UID:534@https://www.lecze-salezjanie.pl/
DTSTART:20220419T170000
DTEND:20220419T170000
DTSTAMP:20260422T174902
CATEGORIES:Msza święta
LOCATION:Suchacz 82-340 Kielecka 14
GEO:54.2856461944789;19.44132685661316
DESCRIPTION:
URL:https://www.lecze-salezjanie.pl//component/djevents/details/2022-04-19/534-w-intencji-ofiarodawcy-1
END:VEVENT
END:VCALENDAR
