BEGIN:VCALENDAR
VERSION:2.0
PRODID:-//https://www.lecze-salezjanie.pl///DJ-Events//EN
BEGIN:VEVENT
SUMMARY:+ Mieczysław Kopańko
UID:183@https://www.lecze-salezjanie.pl/
DTSTART:20220420T180000
DTEND:20220420T180000
DTSTAMP:20260422T174102
CATEGORIES:Msza święta
LOCATION:Łęcze 82-340 Łęcze 48
GEO:54.2700545652713;19.468870040475466
DESCRIPTION:
URL:https://www.lecze-salezjanie.pl//component/djevents/details/2022-04-20/183-mieczyslaw-kopanko
END:VEVENT
END:VCALENDAR
