BEGIN:VCALENDAR
VERSION:2.0
PRODID:-//https://www.lecze-salezjanie.pl///DJ-Events//EN
BEGIN:VEVENT
SUMMARY:+ Anna Zalewska
UID:530@https://www.lecze-salezjanie.pl/
DTSTART:20220420T150000
DTEND:20220420T150000
DTSTAMP:20260422T174916
CATEGORIES:Pogrzeb
LOCATION:Łęcze 82-340 Łęcze 48
GEO:54.2700545652713;19.468870040475466
DESCRIPTION:
URL:https://www.lecze-salezjanie.pl//component/djevents/details/2022-04-20/530-anna-zalewska
END:VEVENT
END:VCALENDAR
