BEGIN:VCALENDAR
VERSION:2.0
PRODID:-//https://www.lecze-salezjanie.pl///DJ-Events//EN
BEGIN:VEVENT
SUMMARY:W intencji ofiarodawcy
UID:532@https://www.lecze-salezjanie.pl/
DTSTART:20220422T180000
DTEND:20220422T180000
DTSTAMP:20260422T174108
CATEGORIES:Msza święta
LOCATION:Łęcze 82-340 Łęcze 48
GEO:54.2700545652713;19.468870040475466
DESCRIPTION:
URL:https://www.lecze-salezjanie.pl//component/djevents/details/2022-04-22/532-w-intencji-ofiarodawcy-3
END:VEVENT
END:VCALENDAR
