BEGIN:VCALENDAR
VERSION:2.0
PRODID:-//https://www.lecze-salezjanie.pl///DJ-Events//EN
BEGIN:VEVENT
SUMMARY:Dziękczynna, z prośbą o Boże Błogosławieństwo i opiekę Matki Bożej dla Anny i Roberta z okazji 30 rocznicy ślubu
UID:185@https://www.lecze-salezjanie.pl/
DTSTART:20220424T090000
DTEND:20220424T090000
DTSTAMP:20260422T154757
CATEGORIES:Msza święta
LOCATION:Łęcze 82-340 Łęcze 48
GEO:54.2700545652713;19.468870040475466
DESCRIPTION:
URL:https://www.lecze-salezjanie.pl//component/djevents/details/2022-04-24/185-dziekczynna-z-prosba-o-boze-blogoslawienstwo-i-opieke-matki-bozej-dla-anny-i-roberta-z-okazji-30-rocznicy-slubu
END:VEVENT
END:VCALENDAR
