BEGIN:VCALENDAR
VERSION:2.0
PRODID:-//https://www.lecze-salezjanie.pl///DJ-Events//EN
BEGIN:VEVENT
SUMMARY:Dziękczynna, z prośbą o Boże Miłosierdzie dla Jadwigi Makarewicz i jej rodziny
UID:441@https://www.lecze-salezjanie.pl/
DTSTART:20220424T103000
DTEND:20220424T103000
DTSTAMP:20260422T154800
CATEGORIES:Msza święta
LOCATION:Suchacz 82-340 Kielecka 14
GEO:54.2856461944789;19.44132685661316
DESCRIPTION:
URL:https://www.lecze-salezjanie.pl//component/djevents/details/2022-04-24/441-dziekczynna-z-prosba-o-boze-milosierdzie-dla-jadwigi-makarewicz-i-jej-rodziny
END:VEVENT
END:VCALENDAR
