BEGIN:VCALENDAR
VERSION:2.0
PRODID:-//https://www.lecze-salezjanie.pl///DJ-Events//EN
BEGIN:VEVENT
SUMMARY:Za Parafian
UID:540@https://www.lecze-salezjanie.pl/
DTSTART:20220424T120000
DTEND:20220424T120000
DTSTAMP:20260422T154501
CATEGORIES:Msza święta
LOCATION:Kamionek Wielki 82-340 Kamionek Wielki 5
GEO:54.262029131955885;19.404954271163948
DESCRIPTION:
URL:https://www.lecze-salezjanie.pl//component/djevents/details/2022-04-24/540-za-parafian-1
END:VEVENT
END:VCALENDAR
