BEGIN:VCALENDAR
VERSION:2.0
PRODID:-//https://www.lecze-salezjanie.pl///DJ-Events//EN
BEGIN:VEVENT
SUMMARY:O Boże Błogosławieństwo i potrzebne łaski w dobrej obronie pracy inżynierskiej dla Karola 
UID:541@https://www.lecze-salezjanie.pl/
DTSTART:20220425T180000
DTEND:20220425T180000
DTSTAMP:20260422T154757
CATEGORIES:Msza święta
LOCATION:Łęcze 82-340 Łęcze 48
GEO:54.2700545652713;19.468870040475466
DESCRIPTION:
URL:https://www.lecze-salezjanie.pl//component/djevents/details/2022-04-25/541-o-boze-blogoslawienstwo-i-potrzebne-laski-w-dobrej-obronie-pracy-inzynierskiej-dla-karola
END:VEVENT
END:VCALENDAR
