BEGIN:VCALENDAR
VERSION:2.0
PRODID:-//https://www.lecze-salezjanie.pl///DJ-Events//EN
BEGIN:VEVENT
SUMMARY:+ Zbigniew Baranowski - w 9 rocznicę śmierci i Genowefa Baranowska - w 27 rocznicę śmierci
UID:190@https://www.lecze-salezjanie.pl/
DTSTART:20220501T120000
DTEND:20220501T120000
DTSTAMP:20260422T140257
CATEGORIES:Msza święta
LOCATION:Łęcze 82-340 Łęcze 48
GEO:54.2700545652713;19.468870040475466
DESCRIPTION:
URL:https://www.lecze-salezjanie.pl//component/djevents/details/2022-05-01/190-zbigniew-baranowski-w-9-rocznice-smierci-i-genowefa-baranowska-w-27-rocznice-smierci
END:VEVENT
END:VCALENDAR
