BEGIN:VCALENDAR
VERSION:2.0
PRODID:-//https://www.lecze-salezjanie.pl///DJ-Events//EN
BEGIN:VEVENT
SUMMARY:+ Teresa i Tadeusz Sowińscy, zmarli z obojga stron
UID:442@https://www.lecze-salezjanie.pl/
DTSTART:20220501T103000
DTEND:20220501T103000
DTSTAMP:20260422T140340
CATEGORIES:Msza święta
LOCATION:Suchacz 82-340 Kielecka 14
GEO:54.2856461944789;19.44132685661316
DESCRIPTION:
URL:https://www.lecze-salezjanie.pl//component/djevents/details/2022-05-01/442-teresa-i-tadeusz-sowinscy-zmarli-z-obojga-stron
END:VEVENT
END:VCALENDAR
