BEGIN:VCALENDAR
VERSION:2.0
PRODID:-//https://www.lecze-salezjanie.pl///DJ-Events//EN
BEGIN:VEVENT
SUMMARY:Dzieci przygotowujące się do przyjęcia Pierwszej Komunii Świętej - poświęcenie medalików (Po Mszy świętej spotkanie)
UID:550@https://www.lecze-salezjanie.pl/
DTSTART:20220501T120000
DTEND:20220501T120000
DTSTAMP:20260422T140406
CATEGORIES:Spotkanie
LOCATION:Łęcze 82-340 Łęcze 48
GEO:54.2700545652713;19.468870040475466
DESCRIPTION:
URL:https://www.lecze-salezjanie.pl//component/djevents/details/2022-05-01/550-dzieci-przygotowujace-sie-do-przyjecia-pierwszej-komunii-swietej-poswiecenie-medalikow-po-mszy-swietej-spotkanie
END:VEVENT
END:VCALENDAR
