BEGIN:VCALENDAR
VERSION:2.0
PRODID:-//https://www.lecze-salezjanie.pl///DJ-Events//EN
BEGIN:VEVENT
SUMMARY:+ Maria, Wanda, Władysław
UID:443@https://www.lecze-salezjanie.pl/
DTSTART:20220503T090000
DTEND:20220503T090000
DTSTAMP:20260422T140215
CATEGORIES:Msza święta
LOCATION:Suchacz 82-340 Kielecka 14
GEO:54.2856461944789;19.44132685661316
DESCRIPTION:
URL:https://www.lecze-salezjanie.pl//component/djevents/details/2022-05-03/443-maria-wanda-wladyslaw
END:VEVENT
END:VCALENDAR
