BEGIN:VCALENDAR
VERSION:2.0
PRODID:-//https://www.lecze-salezjanie.pl///DJ-Events//EN
BEGIN:VEVENT
SUMMARY:O światło Ducha Świętego dla Kuby w czasie egzaminów maturalnych i o Boże Błogosławieństwo dla jego rodziców w 20 rocznicę sakramentu małżeństwa
UID:555@https://www.lecze-salezjanie.pl/
DTSTART:20220503T090000
DTEND:20220503T090000
DTSTAMP:20260422T140409
CATEGORIES:Msza święta
LOCATION:Łęcze 82-340 Łęcze 48
GEO:54.2700545652713;19.468870040475466
DESCRIPTION:
URL:https://www.lecze-salezjanie.pl//component/djevents/details/2022-05-03/555-o-swiatlo-ducha-swietego-dla-kuby-w-czasie-egzaminow-maturalnych-i-o-boze-blogoslawienstwo-dla-jego-rodzicow-w-20-rocznice-sakramentu-malzenstwa
END:VEVENT
END:VCALENDAR
