BEGIN:VCALENDAR
VERSION:2.0
PRODID:-//https://www.lecze-salezjanie.pl///DJ-Events//EN
BEGIN:VEVENT
SUMMARY:O dary Bożej Miłości, ulgę w cierpieniu, zdrowie i opiekę Matki Bożej dla Ireny Andronik
UID:445@https://www.lecze-salezjanie.pl/
DTSTART:20220505T170000
DTEND:20220505T170000
DTSTAMP:20260422T140406
CATEGORIES:Msza święta
LOCATION:Suchacz 82-340 Kielecka 14
GEO:54.2856461944789;19.44132685661316
DESCRIPTION:
URL:https://www.lecze-salezjanie.pl//component/djevents/details/2022-05-05/445-o-dary-bozej-milosci-ulge-w-cierpieniu-zdrowie-i-opieke-matki-bozej-dla-ireny-andronik
END:VEVENT
END:VCALENDAR
