BEGIN:VCALENDAR
VERSION:2.0
PRODID:-//https://www.lecze-salezjanie.pl///DJ-Events//EN
BEGIN:VEVENT
SUMMARY:+ Bronisława Wiącek - w 1 miesiąc po śmierci
UID:513@https://www.lecze-salezjanie.pl/
DTSTART:20220508T103000
DTEND:20220508T103000
DTSTAMP:20260422T123029
CATEGORIES:Msza święta
LOCATION:Suchacz 82-340 Kielecka 14
GEO:54.2856461944789;19.44132685661316
DESCRIPTION:
URL:https://www.lecze-salezjanie.pl//component/djevents/details/2022-05-08/513-bronislawa-wiacek-w-1-miesiac-po-smierci
END:VEVENT
END:VCALENDAR
