BEGIN:VCALENDAR
VERSION:2.0
PRODID:-//https://www.lecze-salezjanie.pl///DJ-Events//EN
BEGIN:VEVENT
SUMMARY:+ Czesław Brywczyński - w 5 rocznicę śmierci oraz za zmarłych rodziców z obojga stron
UID:566@https://www.lecze-salezjanie.pl/
DTSTART:20220508T120000
DTEND:20220508T120000
DTSTAMP:20260422T123115
CATEGORIES:Msza święta
LOCATION:Kamionek Wielki 82-340 Kamionek Wielki 5
GEO:54.262029131955885;19.404954271163948
DESCRIPTION:
URL:https://www.lecze-salezjanie.pl//component/djevents/details/2022-05-08/566-czeslaw-brywczynski-w-5-rocznice-smierci-oraz-za-zmarlych-rodzicow-z-obojga-stron
END:VEVENT
END:VCALENDAR
