BEGIN:VCALENDAR
VERSION:2.0
PRODID:-//https://www.lecze-salezjanie.pl///DJ-Events//EN
BEGIN:VEVENT
SUMMARY:Próba przed Pierwszą Komunią świętą
UID:193@https://www.lecze-salezjanie.pl/
DTSTART:20220511T183000
DTEND:20220511T183000
DTSTAMP:20260422T122852
CATEGORIES:Spotkanie
LOCATION:Łęcze 82-340 Łęcze 48
GEO:54.2700545652713;19.468870040475466
DESCRIPTION:
URL:https://www.lecze-salezjanie.pl//component/djevents/details/2022-05-11/193-proba-przed-pierwsza-komunia-swieta
END:VEVENT
END:VCALENDAR
