BEGIN:VCALENDAR
VERSION:2.0
PRODID:-//https://www.lecze-salezjanie.pl///DJ-Events//EN
BEGIN:VEVENT
SUMMARY:O zdrowie, Błogosławieństwo Boże, opiekę Matki Bożej dla Anny Rymsza w 87 urodziny
UID:447@https://www.lecze-salezjanie.pl/
DTSTART:20220511T170000
DTEND:20220511T170000
DTSTAMP:20260422T123112
CATEGORIES:Msza święta
LOCATION:Suchacz 82-340 Kielecka 14
GEO:54.2856461944789;19.44132685661316
DESCRIPTION:
URL:https://www.lecze-salezjanie.pl//component/djevents/details/2022-05-11/447-o-zdrowie-blogoslawienstwo-boze-opieke-matki-bozej-dla-anny-rymsza-w-87-urodziny
END:VEVENT
END:VCALENDAR
