BEGIN:VCALENDAR
VERSION:2.0
PRODID:-//https://www.lecze-salezjanie.pl///DJ-Events//EN
BEGIN:VEVENT
SUMMARY:Dziękczynna, z prośbą o potrzebne łaski dla Stasi
UID:579@https://www.lecze-salezjanie.pl/
DTSTART:20220513T170000
DTEND:20220513T170000
DTSTAMP:20260422T123104
CATEGORIES:Msza święta
LOCATION:Suchacz 82-340 Kielecka 14
GEO:54.2856461944789;19.44132685661316
DESCRIPTION:
URL:https://www.lecze-salezjanie.pl//component/djevents/details/2022-05-13/579-dziekczynna-z-prosba-o-potrzebne-laski-dla-stasi
END:VEVENT
END:VCALENDAR
