BEGIN:VCALENDAR
VERSION:2.0
PRODID:-//https://www.lecze-salezjanie.pl///DJ-Events//EN
BEGIN:VEVENT
SUMMARY:+ Szczepan Grochoła - z ofiar pogrzebu
UID:204@https://www.lecze-salezjanie.pl/
DTSTART:20220515T120000
DTEND:20220515T120000
DTSTAMP:20260422T123026
CATEGORIES:Msza święta
LOCATION:Łęcze 82-340 Łęcze 48
GEO:54.2700545652713;19.468870040475466
DESCRIPTION:
URL:https://www.lecze-salezjanie.pl//component/djevents/details/2022-05-15/204-szczepan-grochola-z-ofiar-pogrzebu-2
END:VEVENT
END:VCALENDAR
